BEGIN:VCALENDAR
VERSION:2.0
PRODID:-//K12 Student Information System, Communication &amp; ERP - ECPv6.15.13.1//NONSGML v1.0//EN
CALSCALE:GREGORIAN
METHOD:PUBLISH
X-WR-CALNAME:K12 Student Information System, Communication &amp; ERP
X-ORIGINAL-URL:https://focusschoolsoftware.com
X-WR-CALDESC:Events for K12 Student Information System, Communication &amp; ERP
REFRESH-INTERVAL;VALUE=DURATION:PT1H
X-Robots-Tag:noindex
X-PUBLISHED-TTL:PT1H
BEGIN:VTIMEZONE
TZID:UTC
BEGIN:STANDARD
TZOFFSETFROM:+0000
TZOFFSETTO:+0000
TZNAME:UTC
DTSTART:20220101T000000
END:STANDARD
END:VTIMEZONE
BEGIN:VEVENT
DTSTART;VALUE=DATE:20230627
DTEND;VALUE=DATE:20230630
DTSTAMP:20260420T120446
CREATED:20240229T180904Z
LAST-MODIFIED:20240229T180904Z
UID:6705-1687824000-1688083199@focusschoolsoftware.com
SUMMARY:Survey S
DESCRIPTION:
URL:https://focusschoolsoftware.com/event/survey-s-3/
LOCATION:Cambria Hotel – Madeira Beach Marina\, 15015 Madeira Way\, Madeira Beach\, FL\, 33708\, United States
ATTACH;FMTTYPE=image/png:https://focusschoolsoftware.com/wp-content/uploads/2024/02/student_mobile-owl.png
END:VEVENT
END:VCALENDAR